BEGIN:VCALENDAR
VERSION:2.0
PRODID:-//PUB IN - ECPv6.15.16//NONSGML v1.0//EN
CALSCALE:GREGORIAN
METHOD:PUBLISH
X-WR-CALNAME:PUB IN
X-ORIGINAL-URL:https://www.pubin.pt
X-WR-CALDESC:Eventos para PUB IN
REFRESH-INTERVAL;VALUE=DURATION:PT1H
X-Robots-Tag:noindex
X-PUBLISHED-TTL:PT1H
BEGIN:VTIMEZONE
TZID:UTC
BEGIN:STANDARD
TZOFFSETFROM:+0000
TZOFFSETTO:+0000
TZNAME:UTC
DTSTART:20250101T000000
END:STANDARD
END:VTIMEZONE
BEGIN:VEVENT
DTSTART;VALUE=DATE:20260914
DTEND;VALUE=DATE:20260919
DTSTAMP:20260419T143634
CREATED:20260302T164700Z
LAST-MODIFIED:20260302T165028Z
UID:4381-1789344000-1789775999@www.pubin.pt
SUMMARY:Peer Review Week 2026
DESCRIPTION:Todos os anos\, a comunidade académica global reúne-se para reconhecer o papel essencial da revisão por pares na garantia da qualidade\, integridade e confiança da investigação. \nMais informações aqui.
URL:https://www.pubin.pt/evento/peer-review-week-2026/
CATEGORIES:Conferência
ATTACH;FMTTYPE=image/png:https://www.pubin.pt/wp-content/uploads/2026/03/prw_logo.png
END:VEVENT
END:VCALENDAR